BEGIN:VCALENDAR
VERSION:2.0
PRODID:-//The International Baptist Church of Dakar - ECPv6.15.13//NONSGML v1.0//EN
CALSCALE:GREGORIAN
METHOD:PUBLISH
X-WR-CALNAME:The International Baptist Church of Dakar
X-ORIGINAL-URL:https://ibcdakar.org
X-WR-CALDESC:Events for The International Baptist Church of Dakar
REFRESH-INTERVAL;VALUE=DURATION:PT1H
X-Robots-Tag:noindex
X-PUBLISHED-TTL:PT1H
BEGIN:VTIMEZONE
TZID:UTC
BEGIN:STANDARD
TZOFFSETFROM:+0000
TZOFFSETTO:+0000
TZNAME:UTC
DTSTART:20240101T000000
END:STANDARD
END:VTIMEZONE
BEGIN:VEVENT
DTSTART;TZID=UTC:20250719T140000
DTEND;TZID=UTC:20250719T170000
DTSTAMP:20260425T110716
CREATED:20241207T115200Z
LAST-MODIFIED:20241210T162449Z
UID:56089-1752933600-1752944400@ibcdakar.org
SUMMARY:Women's Ministry Meeting
DESCRIPTION:
URL:https://ibcdakar.org/event/womens-ministry-meeting-18/
ATTACH;FMTTYPE=image/jpeg:https://ibcdakar.org/wp-content/uploads/2024/12/WhatsApp-Image-2024-12-03-at-19.16.53_7486b039.jpg
END:VEVENT
BEGIN:VEVENT
DTSTART;TZID=UTC:20250713T090000
DTEND;TZID=UTC:20250713T120000
DTSTAMP:20260425T110716
CREATED:20241207T101312Z
LAST-MODIFIED:20241210T183858Z
UID:55930-1752397200-1752408000@ibcdakar.org
SUMMARY:Communion Sunday
DESCRIPTION:
URL:https://ibcdakar.org/event/communion-sunday-7/
ATTACH;FMTTYPE=image/jpeg:https://ibcdakar.org/wp-content/uploads/2024/12/WhatsApp-Image-2024-12-10-at-16.57.23_5d63209c-1.jpg
END:VEVENT
BEGIN:VEVENT
DTSTART;TZID=UTC:20250708T140000
DTEND;TZID=UTC:20250809T163000
DTSTAMP:20260425T110716
CREATED:20250627T205228Z
LAST-MODIFIED:20250627T205927Z
UID:56907-1751983200-1754757000@ibcdakar.org
SUMMARY:Summer Music Class
DESCRIPTION:🎶 Join Our Summer Music Classes! 🎶\nAre you ready to discover the joy of music? Whether you’re a child\, youth\, or adult — this is your time to shine!\n\nNo matter your age or experience level\, come and unlock your musical potential in a fun and supportive environment! \nReady to join us? Confirm your spot by July 5th\, 2025. Got questions? Contact Nathalie’s for more information. \n📍 Don’t miss this exciting opportunity — spaces are limited!\n__________________________ \n🎶 Participez à nos cours de musique d’été ! 🎶\nEs-tu prêt à découvrir les joies de la musique ? Que tu sois un enfant\, un jeune ou un adulte\, c’est le moment de briller ! \nQuel que soit ton âge ou ton niveau d’expérience\, viens libérer ton potentiel musical dans un environnement amusant et encourageant ! \nPrêt(e) à nous rejoindre ? Confirme ta place avant le 5 juillet 2025. Des questions ? Contacte Nathalie pour plus d’informations. \n\n📍 Ne manquez pas cette occasion passionnante – les places sont limitées !
URL:https://ibcdakar.org/event/summer-music-class/
ATTACH;FMTTYPE=image/jpeg:https://ibcdakar.org/wp-content/uploads/2025/06/FB_IMG_1751057525985.jpg
END:VEVENT
BEGIN:VEVENT
DTSTART;TZID=UTC:20250706T130000
DTEND;TZID=UTC:20250706T140000
DTSTAMP:20260425T110716
CREATED:20241207T095839Z
LAST-MODIFIED:20241210T153408Z
UID:55911-1751806800-1751810400@ibcdakar.org
SUMMARY:CS Prayer Meeting
DESCRIPTION:
URL:https://ibcdakar.org/event/cs-prayer-meeting-7/
ATTACH;FMTTYPE=image/jpeg:https://ibcdakar.org/wp-content/uploads/2024/12/CS-PM-2.jpg
END:VEVENT
BEGIN:VEVENT
DTSTART;TZID=UTC:20250706T080000
DTEND;TZID=UTC:20250706T170000
DTSTAMP:20260425T110716
CREATED:20251225T105829Z
LAST-MODIFIED:20251225T110202Z
UID:57589-1751788800-1751821200@ibcdakar.org
SUMMARY:First Sunday Service
DESCRIPTION:
URL:https://ibcdakar.org/event/first-sunday-service-13/
END:VEVENT
BEGIN:VEVENT
DTSTART;TZID=UTC:20250705T110000
DTEND;TZID=UTC:20250705T140000
DTSTAMP:20260425T110716
CREATED:20241207T112641Z
LAST-MODIFIED:20241210T154002Z
UID:56034-1751713200-1751724000@ibcdakar.org
SUMMARY:Interpreter & Service Leaders Forum
DESCRIPTION:
URL:https://ibcdakar.org/event/interpreter-service-leaders-forum-7/
ATTACH;FMTTYPE=image/jpeg:https://ibcdakar.org/wp-content/uploads/2024/12/ISLF-1.jpg
END:VEVENT
BEGIN:VEVENT
DTSTART;VALUE=DATE:20250705
DTEND;VALUE=DATE:20250706
DTSTAMP:20260425T110716
CREATED:20250613T225439Z
LAST-MODIFIED:20250627T204932Z
UID:56871-1751673600-1751759999@ibcdakar.org
SUMMARY:Medical Outreach
DESCRIPTION:
URL:https://ibcdakar.org/event/medical-outreach-2/
ATTACH;FMTTYPE=image/jpeg:https://ibcdakar.org/wp-content/uploads/2025/06/FB_IMG_1751057339606.jpg
END:VEVENT
BEGIN:VEVENT
DTSTART;TZID=UTC:20250629T080000
DTEND;TZID=UTC:20250629T170000
DTSTAMP:20260425T110716
CREATED:20251225T111005Z
LAST-MODIFIED:20251225T111005Z
UID:57600-1751184000-1751216400@ibcdakar.org
SUMMARY:Family Sunday
DESCRIPTION:
URL:https://ibcdakar.org/event/family-sunday-6/
END:VEVENT
BEGIN:VEVENT
DTSTART;TZID=UTC:20250629T080000
DTEND;TZID=UTC:20250629T170000
DTSTAMP:20260425T110716
CREATED:20241207T123443Z
LAST-MODIFIED:20241210T164106Z
UID:56133-1751184000-1751216400@ibcdakar.org
SUMMARY:Family Sunday
DESCRIPTION:
URL:https://ibcdakar.org/event/family-sunday-2/
ATTACH;FMTTYPE=image/jpeg:https://ibcdakar.org/wp-content/uploads/2024/12/WhatsApp-Image-2024-12-03-at-13.48.22_83a9bbe4.jpg
END:VEVENT
BEGIN:VEVENT
DTSTART;TZID=UTC:20250628T180000
DTEND;TZID=UTC:20250628T210000
DTSTAMP:20260425T110716
CREATED:20241207T114319Z
LAST-MODIFIED:20241210T155505Z
UID:56057-1751133600-1751144400@ibcdakar.org
SUMMARY:YAM Meeting
DESCRIPTION:
URL:https://ibcdakar.org/event/yam-meeting-5/
ATTACH;FMTTYPE=image/jpeg:https://ibcdakar.org/wp-content/uploads/2024/12/YAM-MJ.jpg
END:VEVENT
BEGIN:VEVENT
DTSTART;TZID=UTC:20250628T150000
DTEND;TZID=UTC:20250628T170000
DTSTAMP:20260425T110716
CREATED:20241210T191659Z
LAST-MODIFIED:20241210T191659Z
UID:56277-1751122800-1751130000@ibcdakar.org
SUMMARY:Youth Ministry Meeting
DESCRIPTION:
URL:https://ibcdakar.org/event/youth-ministry-meeting-13/
END:VEVENT
BEGIN:VEVENT
DTSTART;TZID=UTC:20250628T100000
DTEND;TZID=UTC:20250628T120000
DTSTAMP:20260425T110716
CREATED:20241207T104148Z
LAST-MODIFIED:20250613T224740Z
UID:55976-1751104800-1751112000@ibcdakar.org
SUMMARY:Mission & Evangelism
DESCRIPTION:
URL:https://ibcdakar.org/event/mission-evangelism-6/
ATTACH;FMTTYPE=image/jpeg:https://ibcdakar.org/wp-content/uploads/2024/12/WhatsApp-Image-2024-12-03-at-19.16.51_7cf97528.jpg
END:VEVENT
BEGIN:VEVENT
DTSTART;TZID=UTC:20250622T090000
DTEND;TZID=UTC:20250622T120000
DTSTAMP:20260425T110716
CREATED:20241207T102730Z
LAST-MODIFIED:20250613T224407Z
UID:55937-1750582800-1750593600@ibcdakar.org
SUMMARY:Missions Sunday
DESCRIPTION:
URL:https://ibcdakar.org/event/missions-sunday-6/
ATTACH;FMTTYPE=image/jpeg:https://ibcdakar.org/wp-content/uploads/2024/12/MS-Oct.jpg
END:VEVENT
BEGIN:VEVENT
DTSTART;TZID=UTC:20250621T140000
DTEND;TZID=UTC:20250621T170000
DTSTAMP:20260425T110716
CREATED:20241207T115024Z
LAST-MODIFIED:20241210T162458Z
UID:56090-1750514400-1750525200@ibcdakar.org
SUMMARY:Women's Ministry Meeting
DESCRIPTION:
URL:https://ibcdakar.org/event/womens-ministry-meeting-17/
ATTACH;FMTTYPE=image/jpeg:https://ibcdakar.org/wp-content/uploads/2024/12/WhatsApp-Image-2024-12-03-at-19.16.54_2241e964.jpg
END:VEVENT
BEGIN:VEVENT
DTSTART;TZID=UTC:20250615T180000
DTEND;TZID=UTC:20250615T210000
DTSTAMP:20260425T110716
CREATED:20241207T110632Z
LAST-MODIFIED:20241210T163009Z
UID:56008-1750010400-1750021200@ibcdakar.org
SUMMARY:Couples Fellowship
DESCRIPTION:
URL:https://ibcdakar.org/event/couples-fellowship-7/
ATTACH;FMTTYPE=image/jpeg:https://ibcdakar.org/wp-content/uploads/2024/12/WhatsApp-Image-2024-12-03-at-19.16.53_8c8b751d.jpg
END:VEVENT
BEGIN:VEVENT
DTSTART;TZID=UTC:20250615T090000
DTEND;TZID=UTC:20250615T120000
DTSTAMP:20260425T110716
CREATED:20241207T121654Z
LAST-MODIFIED:20241210T160423Z
UID:56138-1749978000-1749988800@ibcdakar.org
SUMMARY:Father's Day
DESCRIPTION:
URL:https://ibcdakar.org/event/fathers-day/
ATTACH;FMTTYPE=image/jpeg:https://ibcdakar.org/wp-content/uploads/2024/12/FD-1.jpg
END:VEVENT
BEGIN:VEVENT
DTSTART;TZID=UTC:20250615T080000
DTEND;TZID=UTC:20250615T170000
DTSTAMP:20260425T110716
CREATED:20241210T160352Z
LAST-MODIFIED:20241210T160414Z
UID:56209-1749974400-1750006800@ibcdakar.org
SUMMARY:Happy Fathers' Day
DESCRIPTION:
URL:https://ibcdakar.org/event/happy-fathers-day/
ATTACH;FMTTYPE=image/jpeg:https://ibcdakar.org/wp-content/uploads/2024/12/YD-1.jpg
END:VEVENT
BEGIN:VEVENT
DTSTART;VALUE=DATE:20250614
DTEND;VALUE=DATE:20250615
DTSTAMP:20260425T110716
CREATED:20241207T115746Z
LAST-MODIFIED:20241210T154748Z
UID:56082-1749859200-1749945599@ibcdakar.org
SUMMARY:Singles Forum
DESCRIPTION:
URL:https://ibcdakar.org/event/singles-forum-3/
ATTACH;FMTTYPE=image/jpeg:https://ibcdakar.org/wp-content/uploads/2024/12/SF-5.jpg
END:VEVENT
BEGIN:VEVENT
DTSTART;TZID=UTC:20250608T100000
DTEND;TZID=UTC:20250608T130000
DTSTAMP:20260425T110716
CREATED:20240122T165723Z
LAST-MODIFIED:20240722T165838Z
UID:55317-1749376800-1749387600@ibcdakar.org
SUMMARY:Pentecost Sunday
DESCRIPTION:
URL:https://ibcdakar.org/event/pentecost-sunday/
ATTACH;FMTTYPE=image/jpeg:https://ibcdakar.org/wp-content/uploads/2024/07/Church-Social-Media-Pentecost.jpg
END:VEVENT
BEGIN:VEVENT
DTSTART;TZID=UTC:20250608T090000
DTEND;TZID=UTC:20250608T120000
DTSTAMP:20260425T110716
CREATED:20241207T101259Z
LAST-MODIFIED:20241210T183917Z
UID:55928-1749373200-1749384000@ibcdakar.org
SUMMARY:Communion Sunday
DESCRIPTION:
URL:https://ibcdakar.org/event/communion-sunday-6/
ATTACH;FMTTYPE=image/jpeg:https://ibcdakar.org/wp-content/uploads/2024/12/WhatsApp-Image-2024-12-10-at-16.57.22_97b52c8b-1.jpg
END:VEVENT
BEGIN:VEVENT
DTSTART;TZID=UTC:20250607T110000
DTEND;TZID=UTC:20250607T140000
DTSTAMP:20260425T110716
CREATED:20241207T112639Z
LAST-MODIFIED:20241210T154020Z
UID:56035-1749294000-1749304800@ibcdakar.org
SUMMARY:Interpreter & Service Leaders Forum
DESCRIPTION:
URL:https://ibcdakar.org/event/interpreter-service-leaders-forum-6/
ATTACH;FMTTYPE=image/jpeg:https://ibcdakar.org/wp-content/uploads/2024/12/ISLF-2.jpg
END:VEVENT
BEGIN:VEVENT
DTSTART;TZID=UTC:20250601T130000
DTEND;TZID=UTC:20250601T140000
DTSTAMP:20260425T110716
CREATED:20241207T095733Z
LAST-MODIFIED:20241210T153426Z
UID:55910-1748782800-1748786400@ibcdakar.org
SUMMARY:CS Prayer Meeting
DESCRIPTION:
URL:https://ibcdakar.org/event/cs-prayer-meeting-6/
ATTACH;FMTTYPE=image/jpeg:https://ibcdakar.org/wp-content/uploads/2024/12/CS-PM-3-.jpg
END:VEVENT
BEGIN:VEVENT
DTSTART;TZID=UTC:20250531T180000
DTEND;TZID=UTC:20250531T210000
DTSTAMP:20260425T110716
CREATED:20241207T114316Z
LAST-MODIFIED:20241210T155507Z
UID:56050-1748714400-1748725200@ibcdakar.org
SUMMARY:YAM Meeting
DESCRIPTION:
URL:https://ibcdakar.org/event/yam-meeting-4/
ATTACH;FMTTYPE=image/jpeg:https://ibcdakar.org/wp-content/uploads/2024/12/YAM-N.jpg
END:VEVENT
BEGIN:VEVENT
DTSTART;VALUE=DATE:20250529
DTEND;VALUE=DATE:20250530
DTSTAMP:20260425T110716
CREATED:20250403T153918Z
LAST-MODIFIED:20250403T153918Z
UID:56783-1748476800-1748563199@ibcdakar.org
SUMMARY:Couples Get Together
DESCRIPTION:
URL:https://ibcdakar.org/event/couples-get-together/
ATTACH;FMTTYPE=image/jpeg:https://ibcdakar.org/wp-content/uploads/2024/12/CF-4.jpg
END:VEVENT
BEGIN:VEVENT
DTSTART;TZID=UTC:20250525T090000
DTEND;TZID=UTC:20250525T120000
DTSTAMP:20260425T110716
CREATED:20241207T121647Z
LAST-MODIFIED:20241210T160139Z
UID:56139-1748163600-1748174400@ibcdakar.org
SUMMARY:Mother's Day
DESCRIPTION:
URL:https://ibcdakar.org/event/mothers-day/
ATTACH;FMTTYPE=image/jpeg:https://ibcdakar.org/wp-content/uploads/2024/12/MD-.jpg
END:VEVENT
BEGIN:VEVENT
DTSTART;TZID=UTC:20250524T150000
DTEND;TZID=UTC:20250524T170000
DTSTAMP:20260425T110716
CREATED:20241210T191635Z
LAST-MODIFIED:20241210T191635Z
UID:56278-1748098800-1748106000@ibcdakar.org
SUMMARY:Youth Ministry Meeting
DESCRIPTION:
URL:https://ibcdakar.org/event/youth-ministry-meeting-12/
ATTACH;FMTTYPE=image/jpeg:https://ibcdakar.org/wp-content/uploads/2024/12/YM-1.jpg
END:VEVENT
BEGIN:VEVENT
DTSTART;TZID=UTC:20250524T100000
DTEND;TZID=UTC:20250524T140000
DTSTAMP:20260425T110716
CREATED:20241207T103958Z
LAST-MODIFIED:20241210T163637Z
UID:55978-1748080800-1748095200@ibcdakar.org
SUMMARY:Mission & Evangelism
DESCRIPTION:
URL:https://ibcdakar.org/event/mission-evangelism-5/
ATTACH;FMTTYPE=image/jpeg:https://ibcdakar.org/wp-content/uploads/2024/12/WhatsApp-Image-2024-12-03-at-19.16.52_16e0ad29.jpg
END:VEVENT
BEGIN:VEVENT
DTSTART;TZID=UTC:20250518T190000
DTEND;TZID=UTC:20250523T210000
DTSTAMP:20260425T110716
CREATED:20241207T123811Z
LAST-MODIFIED:20250403T154140Z
UID:56131-1747594800-1748034000@ibcdakar.org
SUMMARY:Annual Revival
DESCRIPTION:
URL:https://ibcdakar.org/event/annual-revival-service/
ATTACH;FMTTYPE=image/jpeg:https://ibcdakar.org/wp-content/uploads/2024/12/Revival-Annual-1.jpg
END:VEVENT
BEGIN:VEVENT
DTSTART;TZID=UTC:20250518T180000
DTEND;TZID=UTC:20250518T210000
DTSTAMP:20260425T110716
CREATED:20241207T110626Z
LAST-MODIFIED:20241210T163019Z
UID:56009-1747591200-1747602000@ibcdakar.org
SUMMARY:Couples Fellowship
DESCRIPTION:
URL:https://ibcdakar.org/event/couples-fellowship-6/
ATTACH;FMTTYPE=image/jpeg:https://ibcdakar.org/wp-content/uploads/2024/12/WhatsApp-Image-2024-12-03-at-19.16.55_864787df.jpg
END:VEVENT
BEGIN:VEVENT
DTSTART;TZID=UTC:20250518T090000
DTEND;TZID=UTC:20250518T120000
DTSTAMP:20260425T110716
CREATED:20241207T102726Z
LAST-MODIFIED:20250318T134625Z
UID:55955-1747558800-1747569600@ibcdakar.org
SUMMARY:Missions Sunday
DESCRIPTION:
URL:https://ibcdakar.org/event/missions-sunday-5/
ATTACH;FMTTYPE=image/jpeg:https://ibcdakar.org/wp-content/uploads/2024/12/MS-Sept-.jpg
END:VEVENT
END:VCALENDAR